BEGIN:VCALENDAR
VERSION:2.0
PRODID:-//hacksw/handcal//NONSGML v1.0//EN
BEGIN:VEVENT
SUMMARY:Tournoi du mercredi
UID:37ab469c-4368-4ec1-a8ee-21c5039565fb
DTSTART:20251217T130000Z
DTEND:20251217T170000Z
LOCATION:Localisation   
CATEGORIES:Sportif
STATUS:
DESCRIPTION:<p>Tournoi de bridge a Eauze</p>
URL;VALUE=URI:https://bridgeclubeauze.sportsregions.fr/evenements/2025/12/17/tournoi-du-mercredi-2154468
END:VEVENT
END:VCALENDAR
