BEGIN:VCALENDAR
VERSION:2.0
PRODID:-//hacksw/handcal//NONSGML v1.0//EN
BEGIN:VEVENT
SUMMARY:TOURNOI DU MERCREDI
UID:1c68c28f-0ed7-46f2-90ef-fe7055635b71
DTSTART:20260128T130000Z
DTEND:20260128T170000Z
LOCATION:Localisation   
CATEGORIES:Sportif
STATUS:
URL;VALUE=URI:https://bridgeclubeauze.sportsregions.fr/evenements/2026/01/28/tournoi-du-mercredi-2400194
END:VEVENT
END:VCALENDAR
