BEGIN:VCALENDAR
VERSION:2.0
PRODID:-//hacksw/handcal//NONSGML v1.0//EN
BEGIN:VEVENT
SUMMARY:TOURNOI DU MERCREDI
UID:450db7c3-86ad-4de6-bf2d-2f352c0752b9
DTSTART:20260204T130000Z
DTEND:20260204T170000Z
LOCATION:Localisation   
CATEGORIES:Sportif
STATUS:
URL;VALUE=URI:https://bridgeclubeauze.sportsregions.fr/evenements/2026/02/04/tournoi-du-mercredi-2400146
END:VEVENT
END:VCALENDAR
