BEGIN:VCALENDAR
VERSION:2.0
PRODID:-//hacksw/handcal//NONSGML v1.0//EN
BEGIN:VEVENT
SUMMARY:TOURNOI DU MERCREDI
UID:32e64ae0-710b-41dd-8826-b9ae1deea08f
DTSTART:20260211T130000Z
DTEND:20260211T170000Z
LOCATION:Localisation   
CATEGORIES:Sportif
STATUS:
URL;VALUE=URI:https://bridgeclubeauze.sportsregions.fr/evenements/2026/02/11/tournoi-du-mercredi-2400149
END:VEVENT
END:VCALENDAR
