BEGIN:VCALENDAR
VERSION:2.0
PRODID:-//hacksw/handcal//NONSGML v1.0//EN
BEGIN:VEVENT
SUMMARY:TOURNOI DU MERCREDI
UID:a57b5349-9b50-49eb-94ee-28727630a5c1
DTSTART:20260218T130000Z
DTEND:20260218T170000Z
LOCATION:Localisation   
CATEGORIES:Sportif
STATUS:
URL;VALUE=URI:https://bridgeclubeauze.sportsregions.fr/evenements/2026/02/18/tournoi-du-mercredi-2400150
END:VEVENT
END:VCALENDAR
