BEGIN:VCALENDAR
VERSION:2.0
PRODID:-//hacksw/handcal//NONSGML v1.0//EN
BEGIN:VEVENT
SUMMARY:TOURNOI DU MERCREDI
UID:77d23f6c-55b0-405e-a708-2e7c5fd8b55c
DTSTART:20260225T130000Z
DTEND:20260225T170000Z
LOCATION:Localisation   
CATEGORIES:Sportif
STATUS:
URL;VALUE=URI:https://bridgeclubeauze.sportsregions.fr/evenements/2026/02/25/tournoi-du-mercredi-2400154
END:VEVENT
END:VCALENDAR
