BEGIN:VCALENDAR
VERSION:2.0
PRODID:-//hacksw/handcal//NONSGML v1.0//EN
BEGIN:VEVENT
SUMMARY:TOURNOI DU MERCREDI
UID:79e0e4ad-60ec-4fad-ab2c-0588c15562dc
DTSTART:20260304T130000Z
DTEND:20260304T170000Z
LOCATION:Localisation   
CATEGORIES:Sportif
STATUS:
URL;VALUE=URI:https://bridgeclubeauze.sportsregions.fr/evenements/2026/03/04/tournoi-du-mercredi-2400153
END:VEVENT
END:VCALENDAR
