BEGIN:VCALENDAR
VERSION:2.0
PRODID:-//hacksw/handcal//NONSGML v1.0//EN
BEGIN:VEVENT
SUMMARY:TOURNOI DU MERCREDI
UID:1d81f922-db0c-4e47-a546-c1c5dc0b7673
DTSTART:20260311T130000Z
DTEND:20260311T170000Z
LOCATION:Localisation   
CATEGORIES:Sportif
STATUS:
URL;VALUE=URI:https://bridgeclubeauze.sportsregions.fr/evenements/2026/03/11/tournoi-du-mercredi-2400151
END:VEVENT
END:VCALENDAR
