BEGIN:VCALENDAR
VERSION:2.0
PRODID:-//hacksw/handcal//NONSGML v1.0//EN
BEGIN:VEVENT
SUMMARY:TOURNOI DU MERCREDI
UID:0a45b6ad-b594-41e9-a3ce-7cb61d37067c
DTSTART:20260318T130000Z
DTEND:20260318T170000Z
LOCATION:Localisation   
CATEGORIES:Sportif
STATUS:
URL;VALUE=URI:https://bridgeclubeauze.sportsregions.fr/evenements/2026/03/18/tournoi-du-mercredi-2400148
END:VEVENT
END:VCALENDAR
