BEGIN:VCALENDAR
VERSION:2.0
PRODID:-//hacksw/handcal//NONSGML v1.0//EN
BEGIN:VEVENT
SUMMARY:TOURNOI DU MERCREDI
UID:2973ce2c-8769-4857-a448-15130c60de45
DTSTART:20260325T130000Z
DTEND:20260325T170000Z
LOCATION:Localisation   
CATEGORIES:Sportif
STATUS:
URL;VALUE=URI:https://bridgeclubeauze.sportsregions.fr/evenements/2026/03/25/tournoi-du-mercredi-2400155
END:VEVENT
END:VCALENDAR
