BEGIN:VCALENDAR
VERSION:2.0
PRODID:-//hacksw/handcal//NONSGML v1.0//EN
BEGIN:VEVENT
SUMMARY:TOURNOI DU MERCREDI
UID:c00b47ad-d83c-4735-be4e-a5c6e2af8f6f
DTSTART:20260401T120000Z
DTEND:20260401T160000Z
LOCATION:Localisation   
CATEGORIES:Sportif
STATUS:
URL;VALUE=URI:https://bridgeclubeauze.sportsregions.fr/evenements/2026/04/01/tournoi-du-mercredi-2400159
END:VEVENT
END:VCALENDAR
