BEGIN:VCALENDAR
VERSION:2.0
PRODID:-//hacksw/handcal//NONSGML v1.0//EN
BEGIN:VEVENT
SUMMARY:TOURNOI DU MERCREDI
UID:cae477fd-8cb8-4620-a0bc-2db93d5f85a5
DTSTART:20260408T120000Z
DTEND:20260408T160000Z
LOCATION:Localisation   
CATEGORIES:Sportif
STATUS:
URL;VALUE=URI:https://bridgeclubeauze.sportsregions.fr/evenements/2026/04/08/tournoi-du-mercredi-2400158
END:VEVENT
END:VCALENDAR
