BEGIN:VCALENDAR
VERSION:2.0
PRODID:-//hacksw/handcal//NONSGML v1.0//EN
BEGIN:VEVENT
SUMMARY:TOURNOI DU MERCREDI
UID:e184148e-67d1-4439-b4db-4e7045240d3b
DTSTART:20260415T120000Z
DTEND:20260415T160000Z
LOCATION:Localisation   
CATEGORIES:Sportif
STATUS:
URL;VALUE=URI:https://bridgeclubeauze.sportsregions.fr/evenements/2026/04/15/tournoi-du-mercredi-2400157
END:VEVENT
END:VCALENDAR
