BEGIN:VCALENDAR
VERSION:2.0
PRODID:-//hacksw/handcal//NONSGML v1.0//EN
BEGIN:VEVENT
SUMMARY:TOURNOI DU MERCREDI
UID:0b2c8e7b-2979-4592-9d2d-bcc9fd0344f0
DTSTART:20260422T120000Z
DTEND:20260422T160000Z
LOCATION:Localisation   
CATEGORIES:Sportif
STATUS:
URL;VALUE=URI:https://bridgeclubeauze.sportsregions.fr/evenements/2026/04/22/tournoi-du-mercredi-2400156
END:VEVENT
END:VCALENDAR
