BEGIN:VCALENDAR
VERSION:2.0
PRODID:-//hacksw/handcal//NONSGML v1.0//EN
BEGIN:VEVENT
SUMMARY:TOURNOI DU MERCREDI
UID:87e17917-78d4-4bdc-a5d3-4a1af0a1ad4d
DTSTART:20260429T120000Z
DTEND:20260429T160000Z
LOCATION:Localisation   
CATEGORIES:Sportif
STATUS:
URL;VALUE=URI:https://bridgeclubeauze.sportsregions.fr/evenements/2026/04/29/tournoi-du-mercredi-2400152
END:VEVENT
END:VCALENDAR
