BEGIN:VCALENDAR
VERSION:2.0
PRODID:-//hacksw/handcal//NONSGML v1.0//EN
BEGIN:VEVENT
SUMMARY:TOURNOI DU MERCREDI
UID:1aef9bde-e37a-4888-b626-dcb53e3b3e79
DTSTART:20260506T120000Z
DTEND:20260506T160000Z
LOCATION:Localisation   
CATEGORIES:Sportif
STATUS:
URL;VALUE=URI:https://bridgeclubeauze.sportsregions.fr/evenements/2026/05/06/tournoi-du-mercredi-2400165
END:VEVENT
END:VCALENDAR
