BEGIN:VCALENDAR
VERSION:2.0
PRODID:-//hacksw/handcal//NONSGML v1.0//EN
BEGIN:VEVENT
SUMMARY:TOURNOI DU MERCREDI
UID:97060af3-e53b-4aa8-83c0-ef105805257d
DTSTART:20260513T120000Z
DTEND:20260513T160000Z
LOCATION:Localisation   
CATEGORIES:Sportif
STATUS:
URL;VALUE=URI:https://bridgeclubeauze.sportsregions.fr/evenements/2026/05/13/tournoi-du-mercredi-2400164
END:VEVENT
END:VCALENDAR
