BEGIN:VCALENDAR
VERSION:2.0
PRODID:-//hacksw/handcal//NONSGML v1.0//EN
BEGIN:VEVENT
SUMMARY:TOURNOI DU MERCREDI
UID:46f1caab-bde2-48a0-b190-547ad96c428e
DTSTART:20260520T120000Z
DTEND:20260520T160000Z
LOCATION:Localisation   
CATEGORIES:Sportif
STATUS:
URL;VALUE=URI:https://bridgeclubeauze.sportsregions.fr/evenements/2026/05/20/tournoi-du-mercredi-2400163
END:VEVENT
END:VCALENDAR
