BEGIN:VCALENDAR
VERSION:2.0
PRODID:-//hacksw/handcal//NONSGML v1.0//EN
BEGIN:VEVENT
SUMMARY:TOURNOI DU MERCREDI
UID:152405b0-6055-42ad-9aae-65deb8b41afd
DTSTART:20260527T120000Z
DTEND:20260527T160000Z
LOCATION:Localisation   
CATEGORIES:Sportif
STATUS:
URL;VALUE=URI:https://bridgeclubeauze.sportsregions.fr/evenements/2026/05/27/tournoi-du-mercredi-2400162
END:VEVENT
END:VCALENDAR
