BEGIN:VCALENDAR
VERSION:2.0
PRODID:-//hacksw/handcal//NONSGML v1.0//EN
BEGIN:VEVENT
SUMMARY:TOURNOI DU MERCREDI
UID:17b93276-cbaa-48e4-968f-33eefca7126a
DTSTART:20260603T120000Z
DTEND:20260603T160000Z
LOCATION:Localisation   
CATEGORIES:Sportif
STATUS:
URL;VALUE=URI:https://bridgeclubeauze.sportsregions.fr/evenements/2026/06/03/tournoi-du-mercredi-2400166
END:VEVENT
END:VCALENDAR
