BEGIN:VCALENDAR
VERSION:2.0
PRODID:-//hacksw/handcal//NONSGML v1.0//EN
BEGIN:VEVENT
SUMMARY:TOURNOI DU MERCREDI
UID:0716d7a0-6cf3-4d2f-9673-c907368363b8
DTSTART:20260610T120000Z
DTEND:20260610T160000Z
LOCATION:Localisation   
CATEGORIES:Sportif
STATUS:
URL;VALUE=URI:https://bridgeclubeauze.sportsregions.fr/evenements/2026/06/10/tournoi-du-mercredi-2400170
END:VEVENT
END:VCALENDAR
