BEGIN:VCALENDAR
VERSION:2.0
PRODID:-//hacksw/handcal//NONSGML v1.0//EN
BEGIN:VEVENT
SUMMARY:TOURNOI DU MERCREDI
UID:85581550-283a-4b48-bccd-ec1bf70fe696
DTSTART:20260624T120000Z
DTEND:20260624T160000Z
LOCATION:Localisation   
CATEGORIES:Sportif
STATUS:
URL;VALUE=URI:https://bridgeclubeauze.sportsregions.fr/evenements/2026/06/24/tournoi-du-mercredi-2400168
END:VEVENT
END:VCALENDAR
