BEGIN:VCALENDAR
VERSION:2.0
PRODID:-//hacksw/handcal//NONSGML v1.0//EN
BEGIN:VEVENT
SUMMARY:TOURNOI DU MERCREDI
UID:45b5cf73-3c1e-491b-94e3-d559164f7af6
DTSTART:20260701T120000Z
DTEND:20260701T160000Z
LOCATION:Localisation   
CATEGORIES:Sportif
STATUS:
URL;VALUE=URI:https://bridgeclubeauze.sportsregions.fr/evenements/2026/07/01/tournoi-du-mercredi-2400167
END:VEVENT
END:VCALENDAR
