BEGIN:VCALENDAR
VERSION:2.0
PRODID:-//hacksw/handcal//NONSGML v1.0//EN
BEGIN:VEVENT
SUMMARY:TOURNOI DU MERCREDI
UID:394764f9-1406-4b20-a3e8-9144d01ff2d5
DTSTART:20260708T120000Z
DTEND:20260708T160000Z
LOCATION:Localisation   
CATEGORIES:Sportif
STATUS:
URL;VALUE=URI:https://bridgeclubeauze.sportsregions.fr/evenements/2026/07/08/tournoi-du-mercredi-2400160
END:VEVENT
END:VCALENDAR
