BEGIN:VCALENDAR
VERSION:2.0
PRODID:-//hacksw/handcal//NONSGML v1.0//EN
BEGIN:VEVENT
SUMMARY:TOURNOI DU MERCREDI
UID:5faf0d3d-21a7-4611-b599-fc7fec6a9148
DTSTART:20260715T120000Z
DTEND:20260715T160000Z
LOCATION:Localisation   
CATEGORIES:Sportif
STATUS:
URL;VALUE=URI:https://bridgeclubeauze.sportsregions.fr/evenements/2026/07/15/tournoi-du-mercredi-2400171
END:VEVENT
END:VCALENDAR
