BEGIN:VCALENDAR
VERSION:2.0
PRODID:-//hacksw/handcal//NONSGML v1.0//EN
BEGIN:VEVENT
SUMMARY:TOURNOI DU MERCREDI
UID:bf5724e1-b5c6-4d4b-97a4-a880746ec0a9
DTSTART:20260722T120000Z
DTEND:20260722T160000Z
LOCATION:Localisation   
CATEGORIES:Sportif
STATUS:
URL;VALUE=URI:https://bridgeclubeauze.sportsregions.fr/evenements/2026/07/22/tournoi-du-mercredi-2400147
END:VEVENT
END:VCALENDAR
