BEGIN:VCALENDAR
VERSION:2.0
PRODID:-//hacksw/handcal//NONSGML v1.0//EN
BEGIN:VEVENT
SUMMARY:TOURNOI DU MERCREDI
UID:f72530d7-6533-417a-931b-c7b7d0745d49
DTSTART:20260729T120000Z
DTEND:20260729T160000Z
LOCATION:Localisation   
CATEGORIES:Sportif
STATUS:
URL;VALUE=URI:https://bridgeclubeauze.sportsregions.fr/evenements/2026/07/29/tournoi-du-mercredi-2400183
END:VEVENT
END:VCALENDAR
