BEGIN:VCALENDAR
VERSION:2.0
PRODID:-//hacksw/handcal//NONSGML v1.0//EN
BEGIN:VEVENT
SUMMARY:TOURNOI DU MERCREDI
UID:7b2bd269-30ea-41a4-bc59-f343d2d388d0
DTSTART:20260805T120000Z
DTEND:20260805T160000Z
LOCATION:Localisation   
CATEGORIES:Sportif
STATUS:
URL;VALUE=URI:https://bridgeclubeauze.sportsregions.fr/evenements/2026/08/05/tournoi-du-mercredi-2400176
END:VEVENT
END:VCALENDAR
