BEGIN:VCALENDAR
VERSION:2.0
PRODID:-//hacksw/handcal//NONSGML v1.0//EN
BEGIN:VEVENT
SUMMARY:TOURNOI DU MERCREDI
UID:49333e75-c3d6-4dc2-92de-9a2d9c81cd7a
DTSTART:20260812T120000Z
DTEND:20260812T160000Z
LOCATION:Localisation   
CATEGORIES:Sportif
STATUS:
URL;VALUE=URI:https://bridgeclubeauze.sportsregions.fr/evenements/2026/08/12/tournoi-du-mercredi-2400175
END:VEVENT
END:VCALENDAR
