BEGIN:VCALENDAR
VERSION:2.0
PRODID:-//hacksw/handcal//NONSGML v1.0//EN
BEGIN:VEVENT
SUMMARY:TOURNOI DU MERCREDI
UID:d0b379a8-b1fe-4a1d-ae76-a2512658fb92
DTSTART:20260819T120000Z
DTEND:20260819T160000Z
LOCATION:Localisation   
CATEGORIES:Sportif
STATUS:
URL;VALUE=URI:https://bridgeclubeauze.sportsregions.fr/evenements/2026/08/19/tournoi-du-mercredi-2400174
END:VEVENT
END:VCALENDAR
