BEGIN:VCALENDAR
VERSION:2.0
PRODID:-//hacksw/handcal//NONSGML v1.0//EN
BEGIN:VEVENT
SUMMARY:TOURNOI DU MERCREDI
UID:d66a0b0d-c1f9-45fd-9a71-7c7c606ce003
DTSTART:20260826T120000Z
DTEND:20260826T160000Z
LOCATION:Localisation   
CATEGORIES:Sportif
STATUS:
URL;VALUE=URI:https://bridgeclubeauze.sportsregions.fr/evenements/2026/08/26/tournoi-du-mercredi-2400178
END:VEVENT
END:VCALENDAR
