BEGIN:VCALENDAR
VERSION:2.0
PRODID:-//hacksw/handcal//NONSGML v1.0//EN
BEGIN:VEVENT
SUMMARY:TOURNOI DU MERCREDI
UID:8e11d407-0ae4-456b-850d-ef840dfe126e
DTSTART:20260902T120000Z
DTEND:20260902T160000Z
LOCATION:Localisation   
CATEGORIES:Sportif
STATUS:
URL;VALUE=URI:https://bridgeclubeauze.sportsregions.fr/evenements/2026/09/02/tournoi-du-mercredi-2400182
END:VEVENT
END:VCALENDAR
