BEGIN:VCALENDAR
VERSION:2.0
PRODID:-//hacksw/handcal//NONSGML v1.0//EN
BEGIN:VEVENT
SUMMARY:TOURNOI DU MERCREDI
UID:3e1879d9-6fed-49f1-a636-1720666a0d8b
DTSTART:20260916T120000Z
DTEND:20260916T160000Z
LOCATION:Localisation   
CATEGORIES:Sportif
STATUS:
URL;VALUE=URI:https://bridgeclubeauze.sportsregions.fr/evenements/2026/09/16/tournoi-du-mercredi-2400180
END:VEVENT
END:VCALENDAR
