BEGIN:VCALENDAR
VERSION:2.0
PRODID:-//hacksw/handcal//NONSGML v1.0//EN
BEGIN:VEVENT
SUMMARY:TOURNOI DU MERCREDI
UID:c33b84bf-a7d1-414c-bde0-585e2d04f597
DTSTART:20260923T120000Z
DTEND:20260923T160000Z
LOCATION:Localisation   
CATEGORIES:Sportif
STATUS:
URL;VALUE=URI:https://bridgeclubeauze.sportsregions.fr/evenements/2026/09/23/tournoi-du-mercredi-2400179
END:VEVENT
END:VCALENDAR
