BEGIN:VCALENDAR
VERSION:2.0
PRODID:-//hacksw/handcal//NONSGML v1.0//EN
BEGIN:VEVENT
SUMMARY:TOURNOI DU MERCREDI
UID:09e7d08f-2f15-44a6-89f2-1e356129fea6
DTSTART:20260930T120000Z
DTEND:20260930T160000Z
LOCATION:Localisation   
CATEGORIES:Sportif
STATUS:
URL;VALUE=URI:https://bridgeclubeauze.sportsregions.fr/evenements/2026/09/30/tournoi-du-mercredi-2400172
END:VEVENT
END:VCALENDAR
