BEGIN:VCALENDAR
VERSION:2.0
PRODID:-//hacksw/handcal//NONSGML v1.0//EN
BEGIN:VEVENT
SUMMARY:TOURNOI DU MERCREDI
UID:0781acfc-dbd5-460c-820d-95f5d3ba0ea4
DTSTART:20261021T120000Z
DTEND:20261021T160000Z
LOCATION:Localisation   
CATEGORIES:Sportif
STATUS:
URL;VALUE=URI:https://bridgeclubeauze.sportsregions.fr/evenements/2026/10/21/tournoi-du-mercredi-2400185
END:VEVENT
END:VCALENDAR
