BEGIN:VCALENDAR
VERSION:2.0
PRODID:-//hacksw/handcal//NONSGML v1.0//EN
BEGIN:VEVENT
SUMMARY:TOURNOI DU MERCREDI
UID:17c8ca80-23ad-4449-a5a0-51b3de3294a5
DTSTART:20261104T130000Z
DTEND:20261104T170000Z
LOCATION:Localisation   
CATEGORIES:Sportif
STATUS:
URL;VALUE=URI:https://bridgeclubeauze.sportsregions.fr/evenements/2026/11/04/tournoi-du-mercredi-2400187
END:VEVENT
END:VCALENDAR
