BEGIN:VCALENDAR
VERSION:2.0
PRODID:-//hacksw/handcal//NONSGML v1.0//EN
BEGIN:VEVENT
SUMMARY:TOURNOI DU MERCREDI
UID:b408c75f-e4fb-4f68-9797-4d754d173f2f
DTSTART:20261118T130000Z
DTEND:20261118T170000Z
LOCATION:Localisation   
CATEGORIES:Sportif
STATUS:
URL;VALUE=URI:https://bridgeclubeauze.sportsregions.fr/evenements/2026/11/18/tournoi-du-mercredi-2400184
END:VEVENT
END:VCALENDAR
