BEGIN:VCALENDAR
VERSION:2.0
PRODID:-//hacksw/handcal//NONSGML v1.0//EN
BEGIN:VEVENT
SUMMARY:TOURNOI DU MERCREDI
UID:a187f4a1-c06b-48f2-8f96-27bcdb4ca9ce
DTSTART:20261125T130000Z
DTEND:20261125T170000Z
LOCATION:Localisation   
CATEGORIES:Sportif
STATUS:
URL;VALUE=URI:https://bridgeclubeauze.sportsregions.fr/evenements/2026/11/25/tournoi-du-mercredi-2400189
END:VEVENT
END:VCALENDAR
