BEGIN:VCALENDAR
VERSION:2.0
PRODID:-//hacksw/handcal//NONSGML v1.0//EN
BEGIN:VEVENT
SUMMARY:TOURNOI DU MERCREDI
UID:4f95303a-dce6-4449-9444-96ee357f4797
DTSTART:20261202T130000Z
DTEND:20261202T170000Z
LOCATION:Localisation   
CATEGORIES:Sportif
STATUS:
URL;VALUE=URI:https://bridgeclubeauze.sportsregions.fr/evenements/2026/12/02/tournoi-du-mercredi-2400193
END:VEVENT
END:VCALENDAR
