BEGIN:VCALENDAR
VERSION:2.0
PRODID:-//hacksw/handcal//NONSGML v1.0//EN
BEGIN:VEVENT
SUMMARY:TOURNOI DU MERCREDI
UID:01adef46-5d69-4076-a23a-241a454e2b6f
DTSTART:20261209T130000Z
DTEND:20261209T170000Z
LOCATION:Localisation   
CATEGORIES:Sportif
STATUS:
URL;VALUE=URI:https://bridgeclubeauze.sportsregions.fr/evenements/2026/12/09/tournoi-du-mercredi-2400192
END:VEVENT
END:VCALENDAR
