BEGIN:VCALENDAR
VERSION:2.0
PRODID:-//hacksw/handcal//NONSGML v1.0//EN
BEGIN:VEVENT
SUMMARY:TOURNOI DU MERCREDI
UID:200bcbef-b2be-46c1-b1e4-b9a38ebf6c23
DTSTART:20261216T130000Z
DTEND:20261216T170000Z
LOCATION:Localisation   
CATEGORIES:Sportif
STATUS:
URL;VALUE=URI:https://bridgeclubeauze.sportsregions.fr/evenements/2026/12/16/tournoi-du-mercredi-2400191
END:VEVENT
END:VCALENDAR
