BEGIN:VCALENDAR
VERSION:2.0
PRODID:-//hacksw/handcal//NONSGML v1.0//EN
BEGIN:VEVENT
SUMMARY:TOURNOI DU MERCREDI
UID:ffb74ab7-1047-489c-9bdd-c9a2fb070e1d
DTSTART:20261223T130000Z
DTEND:20261223T170000Z
LOCATION:Localisation   
CATEGORIES:Sportif
STATUS:
URL;VALUE=URI:https://bridgeclubeauze.sportsregions.fr/evenements/2026/12/23/tournoi-du-mercredi-2400190
END:VEVENT
END:VCALENDAR
